BEGIN:VCALENDAR
VERSION:2.0
PRODID:-//Plone.org//NONSGML plone.app.event//EN
X-WR-TIMEZONE:Europe/London
BEGIN:VEVENT
SUMMARY:In-Service Day 4
DTSTART;VALUE=DATE:20230214
DTEND;VALUE=DATE:20230215
DTSTAMP;VALUE=DATE-TIME:20260423T025801Z
UID:2977cbd228d447e897186faa7f37afd4@st-pauls.ea.dundeecity.sch.uk
CREATED;VALUE=DATE-TIME:20230124T125445Z
LAST-MODIFIED;VALUE=DATE-TIME:20230124T125605Z
URL:http://st-pauls.ea.dundeecity.sch.uk/events/in-service-day-4
END:VEVENT
END:VCALENDAR
