BEGIN:VCALENDAR
VERSION:2.0
PRODID:-//Plone.org//NONSGML plone.app.event//EN
X-WR-TIMEZONE:Europe/London
BEGIN:VEVENT
SUMMARY:In-service Day 1
DTSTART;VALUE=DATE:20230814
DTEND;VALUE=DATE:20230815
DTSTAMP;VALUE=DATE-TIME:20260422T234235Z
UID:ed92bba428634ecca6c47ab0e3ae8939@st-pauls.ea.dundeecity.sch.uk
CREATED;VALUE=DATE-TIME:20230131T101957Z
LAST-MODIFIED;VALUE=DATE-TIME:20230222T122548Z
URL:http://st-pauls.ea.dundeecity.sch.uk/events/in-service-day-1
END:VEVENT
END:VCALENDAR
