BEGIN:VCALENDAR
VERSION:2.0
PRODID:-//Plone.org//NONSGML plone.app.event//EN
X-WR-TIMEZONE:Europe/London
BEGIN:VEVENT
SUMMARY:Higher Bus Mgt Assignment Final Submission
DTSTART;VALUE=DATE:20230324
DTEND;VALUE=DATE:20230325
DTSTAMP;VALUE=DATE-TIME:20260423T040057Z
UID:76319c55cf044a3b8ddc072170c878da@st-pauls.ea.dundeecity.sch.uk
CREATED;VALUE=DATE-TIME:20230124T124242Z
LAST-MODIFIED;VALUE=DATE-TIME:20230124T125605Z
URL:http://st-pauls.ea.dundeecity.sch.uk/events/higher-bus-mgt-assignment-
 final-submission
END:VEVENT
END:VCALENDAR
