BEGIN:VCALENDAR
VERSION:2.0
PRODID:-//Plone.org//NONSGML plone.app.event//EN
X-WR-TIMEZONE:Europe/London
BEGIN:VEVENT
SUMMARY:End of Term 4
DTSTART;VALUE=DATE:20230630
DTEND;VALUE=DATE:20230701
DTSTAMP;VALUE=DATE-TIME:20260423T021939Z
UID:fb952a2261dc44b4bb992b2bad16fcdf@st-pauls.ea.dundeecity.sch.uk
CREATED;VALUE=DATE-TIME:20230124T141916Z
LAST-MODIFIED;VALUE=DATE-TIME:20230201T152349Z
URL:http://st-pauls.ea.dundeecity.sch.uk/events/end-of-term-4
END:VEVENT
END:VCALENDAR
