BEGIN:VCALENDAR
VERSION:2.0
PRODID:-//Plone.org//NONSGML plone.app.event//EN
X-WR-TIMEZONE:Europe/London
BEGIN:VEVENT
SUMMARY:End of Term 3
DTSTART;VALUE=DATE:20230331
DTEND;VALUE=DATE:20230401
DTSTAMP;VALUE=DATE-TIME:20260423T014659Z
UID:f6803a59e7d94ca79a595b872bb7d042@st-pauls.ea.dundeecity.sch.uk
CREATED;VALUE=DATE-TIME:20230124T124819Z
LAST-MODIFIED;VALUE=DATE-TIME:20230124T125605Z
URL:http://st-pauls.ea.dundeecity.sch.uk/events/end-of-term-3
END:VEVENT
END:VCALENDAR
