BEGIN:VCALENDAR
VERSION:2.0
PRODID:-//Plone.org//NONSGML plone.app.event//EN
X-WR-TIMEZONE:Europe/London
BEGIN:VEVENT
SUMMARY:Education Mass
DTSTART;TZID=Europe/London;VALUE=DATE-TIME:20230601T190000
DTEND;TZID=Europe/London;VALUE=DATE-TIME:20230601T210000
DTSTAMP;VALUE=DATE-TIME:20260423T025919Z
UID:8881a25ef31a455ea9dcb677f56f51ba@st-pauls.ea.dundeecity.sch.uk
CREATED;VALUE=DATE-TIME:20230124T142611Z
LAST-MODIFIED;VALUE=DATE-TIME:20230201T152349Z
LOCATION:St Andrew's Cathedral\, Dundee
URL:http://st-pauls.ea.dundeecity.sch.uk/events/education-mass
END:VEVENT
BEGIN:VTIMEZONE
TZID:Europe/London
X-LIC-LOCATION:Europe/London
BEGIN:DAYLIGHT
DTSTART;VALUE=DATE-TIME:20230326T020000
TZNAME:BST
TZOFFSETFROM:+0000
TZOFFSETTO:+0100
END:DAYLIGHT
END:VTIMEZONE
END:VCALENDAR
