BEGIN:VCALENDAR
VERSION:2.0
PRODID:-//Plone.org//NONSGML plone.app.event//EN
X-WR-TIMEZONE:Europe/London
BEGIN:VEVENT
SUMMARY:DofE S4/5 Bronze - Expedition Day
DTSTART;VALUE=DATE:20230607
DTEND;VALUE=DATE:20230608
DTSTAMP;VALUE=DATE-TIME:20260423T145424Z
UID:624d01ae4ae343feaf3d506720c2587f@st-pauls.ea.dundeecity.sch.uk
CREATED;VALUE=DATE-TIME:20230222T132220Z
LAST-MODIFIED;VALUE=DATE-TIME:20230302T120920Z
URL:http://st-pauls.ea.dundeecity.sch.uk/events/dofe-s4-5-bronze-expeditio
 n-day
END:VEVENT
END:VCALENDAR
