BEGIN:VCALENDAR
VERSION:2.0
PRODID:-//Plone.org//NONSGML plone.app.event//EN
X-WR-TIMEZONE:Europe/London
BEGIN:VEVENT
SUMMARY:DofE Groups A&B - S3 Expedition Day
DTSTART;VALUE=DATE:20230512
DTEND;VALUE=DATE:20230513
DTSTAMP;VALUE=DATE-TIME:20260423T013643Z
UID:e3a732385ab647a4a74b29402cfc5d71@st-pauls.ea.dundeecity.sch.uk
CREATED;VALUE=DATE-TIME:20230222T094349Z
LAST-MODIFIED;VALUE=DATE-TIME:20230222T122136Z
URL:http://st-pauls.ea.dundeecity.sch.uk/events/dofe-groups-a-b-s3-expedit
 ion-day
END:VEVENT
END:VCALENDAR
