BEGIN:VCALENDAR
VERSION:2.0
PRODID:-//Plone.org//NONSGML plone.app.event//EN
X-WR-TIMEZONE:Europe/London
BEGIN:VEVENT
SUMMARY:DofE Group B - S3 Training Day
DTSTART;VALUE=DATE:20230505
DTEND;VALUE=DATE:20230506
DTSTAMP;VALUE=DATE-TIME:20260423T043724Z
UID:daabf3c8b421447493c05c47f8d9ba68@st-pauls.ea.dundeecity.sch.uk
CREATED;VALUE=DATE-TIME:20230222T093240Z
LAST-MODIFIED;VALUE=DATE-TIME:20230222T122113Z
URL:http://st-pauls.ea.dundeecity.sch.uk/events/dofe-group-b-s3-training-d
 ay
END:VEVENT
END:VCALENDAR
