BEGIN:VCALENDAR
VERSION:2.0
PRODID:-//Plone.org//NONSGML plone.app.event//EN
X-WR-TIMEZONE:Europe/London
BEGIN:VEVENT
SUMMARY:DofE Group A - S3 Training Day
DTSTART;VALUE=DATE:20230504
DTEND;VALUE=DATE:20230505
DTSTAMP;VALUE=DATE-TIME:20260423T014954Z
UID:e3132ef906b94938b6ba993c8366053f@st-pauls.ea.dundeecity.sch.uk
CREATED;VALUE=DATE-TIME:20230222T090215Z
LAST-MODIFIED;VALUE=DATE-TIME:20230222T122548Z
URL:http://st-pauls.ea.dundeecity.sch.uk/events/dofe-group-a-s3-training-d
 ay
END:VEVENT
END:VCALENDAR
