BEGIN:VCALENDAR
VERSION:2.0
PRODID:-//Plone.org//NONSGML plone.app.event//EN
X-WR-TIMEZONE:Europe/London
BEGIN:VEVENT
SUMMARY:Curriculum & Attainment Reviews
DTSTART;VALUE=DATE:20230313
DTEND;VALUE=DATE:20230318
DTSTAMP;VALUE=DATE-TIME:20260423T043359Z
UID:9816e750c143472db0e5aab7317fe678@st-pauls.ea.dundeecity.sch.uk
CREATED;VALUE=DATE-TIME:20230124T123520Z
LAST-MODIFIED;VALUE=DATE-TIME:20230124T125605Z
URL:http://st-pauls.ea.dundeecity.sch.uk/events/curriculum-attainment-revi
 ews
END:VEVENT
END:VCALENDAR
