BEGIN:VCALENDAR
VERSION:2.0
PRODID:-//Plone.org//NONSGML plone.app.event//EN
X-WR-TIMEZONE:Europe/London
BEGIN:VEVENT
SUMMARY:Curriculum & Attainment Reviews
DTSTART;VALUE=DATE:20230320
DTEND;VALUE=DATE:20230325
DTSTAMP;VALUE=DATE-TIME:20260423T013215Z
UID:9496485931a3406ebbaab48f8db91731@st-pauls.ea.dundeecity.sch.uk
CREATED;VALUE=DATE-TIME:20230124T124020Z
LAST-MODIFIED;VALUE=DATE-TIME:20230124T125605Z
URL:http://st-pauls.ea.dundeecity.sch.uk/events/curriculum-attainment-revi
 ews-1
END:VEVENT
END:VCALENDAR
