BEGIN:VCALENDAR
VERSION:2.0
PRODID:-//Plone.org//NONSGML plone.app.event//EN
X-WR-TIMEZONE:Europe/London
BEGIN:VEVENT
SUMMARY:Prelims
DTSTART;VALUE=DATE:20230201
DTEND;VALUE=DATE:20230204
DTSTAMP;VALUE=DATE-TIME:20260423T103553Z
UID:679723d89b78440ea03e39142fc0bda4@st-pauls.ea.dundeecity.sch.uk
CREATED;VALUE=DATE-TIME:20230124T133347Z
LAST-MODIFIED;VALUE=DATE-TIME:20230222T122548Z
URL:http://st-pauls.ea.dundeecity.sch.uk/events/copy_of_prelims
END:VEVENT
END:VCALENDAR
