BEGIN:VCALENDAR
VERSION:2.0
PRODID:-//Plone.org//NONSGML plone.app.event//EN
X-WR-TIMEZONE:Europe/London
BEGIN:VEVENT
SUMMARY:Ash Wednesday
DTSTART;VALUE=DATE:20230301
DTEND;VALUE=DATE:20230302
DTSTAMP;VALUE=DATE-TIME:20260423T080212Z
UID:e60d8cb735884ac2aaded12f766b3d46@st-pauls.ea.dundeecity.sch.uk
CREATED;VALUE=DATE-TIME:20230124T122021Z
LAST-MODIFIED;VALUE=DATE-TIME:20230124T125605Z
URL:http://st-pauls.ea.dundeecity.sch.uk/events/ash-wednesday
END:VEVENT
END:VCALENDAR
