BEGIN:VCALENDAR
VERSION:2.0
PRODID:-//Plone.org//NONSGML plone.app.event//EN
X-WR-TIMEZONE:Europe/London
BEGIN:VEVENT
SUMMARY:End of Term 4
DTSTART;VALUE=DATE:20260702
DTEND;VALUE=DATE:20260703
DTSTAMP;VALUE=DATE-TIME:20260425T195630Z
UID:7ba832d16a2c44a4884ae1f91b78932e@st-pauls.ea.dundeecity.sch.uk
CREATED;VALUE=DATE-TIME:20250520T111304Z
LAST-MODIFIED;VALUE=DATE-TIME:20250520T111307Z
URL:http://st-pauls.ea.dundeecity.sch.uk/end-of-term-4-1
END:VEVENT
END:VCALENDAR
