BEGIN:VCALENDAR
VERSION:2.0
PRODID:-//Plone.org//NONSGML plone.app.event//EN
X-WR-TIMEZONE:Europe/London
BEGIN:VEVENT
SUMMARY:Education Mass
DTSTART;VALUE=DATE:20260604
DTEND;VALUE=DATE:20260605
DTSTAMP;VALUE=DATE-TIME:20260425T195707Z
UID:fcd096dd60bc43d8a30d6061794b061d@st-pauls.ea.dundeecity.sch.uk
CREATED;VALUE=DATE-TIME:20250520T110325Z
LAST-MODIFIED;VALUE=DATE-TIME:20250520T110331Z
URL:http://st-pauls.ea.dundeecity.sch.uk/education-mass-1
END:VEVENT
END:VCALENDAR
