BEGIN:VCALENDAR
VERSION:2.0
PRODID:-//Plone.org//NONSGML plone.app.event//EN
X-WR-TIMEZONE:Europe/London
BEGIN:VEVENT
SUMMARY:Christmas Holiday
DTSTART;VALUE=DATE:20231223
DTEND;VALUE=DATE:20240106
DTSTAMP;VALUE=DATE-TIME:20260423T231841Z
UID:6b66e2d6413e487aa85d61286b20625c@st-pauls.ea.dundeecity.sch.uk
CREATED;VALUE=DATE-TIME:20230619T122930Z
LAST-MODIFIED;VALUE=DATE-TIME:20230619T122940Z
URL:http://st-pauls.ea.dundeecity.sch.uk/christmas-holiday
END:VEVENT
END:VCALENDAR
