BEGIN:VCALENDAR
VERSION:2.0
PRODID:-//Plone.org//NONSGML plone.app.event//EN
X-WR-TIMEZONE:Europe/London
BEGIN:VEVENT
SUMMARY:Celebration of Success
DTSTART;TZID=Europe/London;VALUE=DATE-TIME:20260609T180000
DTEND;TZID=Europe/London;VALUE=DATE-TIME:20260609T210000
DTSTAMP;VALUE=DATE-TIME:20260425T195232Z
UID:44959549b075486abae7f73a8b96dd4e@st-pauls.ea.dundeecity.sch.uk
CREATED;VALUE=DATE-TIME:20250520T110440Z
LAST-MODIFIED;VALUE=DATE-TIME:20250520T110454Z
URL:http://st-pauls.ea.dundeecity.sch.uk/celebration-of-success-2
END:VEVENT
BEGIN:VTIMEZONE
TZID:Europe/London
X-LIC-LOCATION:Europe/London
BEGIN:DAYLIGHT
DTSTART;VALUE=DATE-TIME:20260329T020000
TZNAME:BST
TZOFFSETFROM:+0000
TZOFFSETTO:+0100
END:DAYLIGHT
END:VTIMEZONE
END:VCALENDAR
