BEGIN:VCALENDAR
VERSION:2.0
PRODID:-//Plone.org//NONSGML plone.app.event//EN
X-WR-TIMEZONE:Europe/London
BEGIN:VEVENT
SUMMARY:Bingo Night
DTSTART;TZID=Europe/London;VALUE=DATE-TIME:20260513T190000
DTEND;TZID=Europe/London;VALUE=DATE-TIME:20260513T220000
DTSTAMP;VALUE=DATE-TIME:20260425T181947Z
UID:9467dc50010b43b9b86ab6a74819c8d0@st-pauls.ea.dundeecity.sch.uk
CREATED;VALUE=DATE-TIME:20260330T115641Z
LAST-MODIFIED;VALUE=DATE-TIME:20260330T115650Z
URL:http://st-pauls.ea.dundeecity.sch.uk/bingo-night-1
END:VEVENT
BEGIN:VTIMEZONE
TZID:Europe/London
X-LIC-LOCATION:Europe/London
BEGIN:DAYLIGHT
DTSTART;VALUE=DATE-TIME:20260329T020000
TZNAME:BST
TZOFFSETFROM:+0000
TZOFFSETTO:+0100
END:DAYLIGHT
END:VTIMEZONE
END:VCALENDAR
