BEGIN:VCALENDAR
VERSION:2.0
PRODID:-//Plone.org//NONSGML plone.app.event//EN
X-WR-TIMEZONE:Europe/London
BEGIN:VEVENT
SUMMARY:Attainment/Estimate review meetings
DTSTART;VALUE=DATE:20260323
DTEND;VALUE=DATE:20260328
DTSTAMP;VALUE=DATE-TIME:20260425T185540Z
UID:f906102670294878b3fd60256ac548e1@st-pauls.ea.dundeecity.sch.uk
CREATED;VALUE=DATE-TIME:20250520T104830Z
LAST-MODIFIED;VALUE=DATE-TIME:20250520T104842Z
URL:http://st-pauls.ea.dundeecity.sch.uk/attainment-estimate-review-meetin
 gs
END:VEVENT
END:VCALENDAR
