BEGIN:VCALENDAR
VERSION:2.0
PRODID:-//Plone.org//NONSGML plone.app.event//EN
X-WR-TIMEZONE:Europe/London
BEGIN:VEVENT
SUMMARY:Ascension Day
DTSTART;VALUE=DATE:20260514
DTEND;VALUE=DATE:20260515
DTSTAMP;VALUE=DATE-TIME:20260425T182012Z
UID:5bc1f94134b648f7b4f14f4492461ee5@st-pauls.ea.dundeecity.sch.uk
CREATED;VALUE=DATE-TIME:20250520T105744Z
LAST-MODIFIED;VALUE=DATE-TIME:20250520T105759Z
URL:http://st-pauls.ea.dundeecity.sch.uk/ascension-day-1
END:VEVENT
END:VCALENDAR
